BEGIN:VCALENDAR
VERSION:2.0
PRODID:-//Evergete aps//NONSGML kigkonsult.se iCalcreator 2.30.10//
CALSCALE:GREGORIAN
METHOD:PUBLISH
UID:c5191878-fb25-4eee-8836-13fefa54f26b
X-WR-CALNAME:iCagenda
X-WR-CALDESC:Event Management Extension for Joomla!
X-WR-RELCALID:3E26604A-50F4-4449-8B3E-E4F4932D05B5
X-WR-TIMEZONE:Europe/Rome
BEGIN:VTIMEZONE
TZID:Europe/Rome
BEGIN:STANDARD
TZNAME:CET
DTSTART:20221030T030000
TZOFFSETFROM:+0200
TZOFFSETTO:+0100
RDATE:20231029T030000
RDATE:20241027T030000
END:STANDARD
BEGIN:DAYLIGHT
TZNAME:CEST
DTSTART:20230326T020000
TZOFFSETFROM:+0100
TZOFFSETTO:+0200
RDATE:20240331T020000
RDATE:20250330T020000
END:DAYLIGHT
END:VTIMEZONE
BEGIN:VEVENT
UID:0a7036bc-8f4d-476f-bd12-5d75bb2849ca
DTSTAMP:20260420T200444Z
CATEGORIES:Campagna Associativa
CLASS:PUBLIC
DESCRIPTION;ALTREP="CID:<FFFF__=0ABBE548DFE235B58f9e8a93d@coffeebean.com>":
  \n \nLink per la prenotazione - clicca qui! -\nCome raggiungerci - clicca
  qui -
DTSTART:20230929T180000Z
DTEND:20230929T203000Z
GEO:+43.07547;+12.54139
LOCATION:
ORGANIZER:
SEQUENCE:1
SUMMARY:El corazon al sur
TRANSP:OPAQUE
URL:https://evergeteaps.it/index.php/component/icagenda/7-el-corazon-al-sur
END:VEVENT
END:VCALENDAR
