BEGIN:VCALENDAR
VERSION:2.0
PRODID:-//Evergete aps//NONSGML kigkonsult.se iCalcreator 2.30.10//
CALSCALE:GREGORIAN
METHOD:PUBLISH
UID:38804dff-0a8d-4a20-9fd5-48590a275d58
X-WR-CALNAME:iCagenda
X-WR-CALDESC:Event Management Extension for Joomla!
X-WR-RELCALID:3E26604A-50F4-4449-8B3E-E4F4932D05B5
X-WR-TIMEZONE:Europe/Rome
BEGIN:VTIMEZONE
TZID:Europe/Rome
BEGIN:STANDARD
TZNAME:CET
DTSTART:20221030T030000
TZOFFSETFROM:+0200
TZOFFSETTO:+0100
RDATE:20231029T030000
RDATE:20241027T030000
END:STANDARD
BEGIN:DAYLIGHT
TZNAME:CEST
DTSTART:20230326T020000
TZOFFSETFROM:+0100
TZOFFSETTO:+0200
RDATE:20240331T020000
END:DAYLIGHT
END:VTIMEZONE
BEGIN:VEVENT
UID:b5abac2a-8e93-4575-a5b5-1f0078399c97
DTSTAMP:20260420T201544Z
CATEGORIES:Formazione Informatica
CLASS:PUBLIC
DESCRIPTION:
DTSTART:20230910T153000Z
DTEND:20230910T173000Z
GEO:00;0
LOCATION:
ORGANIZER:
SEQUENCE:1
SUMMARY:Per una pedagogia della speranza
TRANSP:OPAQUE
URL:https://evergeteaps.it/index.php/component/icagenda/6-per-una-pedagogia
 -della-speranza
END:VEVENT
END:VCALENDAR
