BEGIN:VCALENDAR
VERSION:2.0
PRODID:-//Evergete aps//NONSGML kigkonsult.se iCalcreator 2.30.10//
CALSCALE:GREGORIAN
METHOD:PUBLISH
UID:3c04fa59-fd56-4aef-b0d6-135162c938cf
X-WR-CALNAME:iCagenda
X-WR-CALDESC:Event Management Extension for Joomla!
X-WR-RELCALID:3E26604A-50F4-4449-8B3E-E4F4932D05B5
X-WR-TIMEZONE:Europe/Rome
BEGIN:VTIMEZONE
TZID:Europe/Rome
BEGIN:STANDARD
TZNAME:CET
DTSTART:20221030T030000
TZOFFSETFROM:+0200
TZOFFSETTO:+0100
RDATE:20231029T030000
RDATE:20241027T030000
END:STANDARD
BEGIN:DAYLIGHT
TZNAME:CEST
DTSTART:20230326T020000
TZOFFSETFROM:+0100
TZOFFSETTO:+0200
RDATE:20240331T020000
END:DAYLIGHT
END:VTIMEZONE
BEGIN:VEVENT
UID:49ad566c-0478-4b67-8bd8-c9e5d5e871d8
DTSTAMP:20260420T213306Z
CATEGORIES:Formazione Informatica
CLASS:PUBLIC
DESCRIPTION:
DTSTART:20230713T190000Z
DTEND:20230713T203000Z
GEO:+43.075584;+12.541436
LOCATION:Circolo San Bartolo
ORGANIZER:
SEQUENCE:1
SUMMARY:INQUINAMENTO ALIMENTARE - QUALI CAUSE E CONSEGUENZE PER LA SALUTE
TRANSP:OPAQUE
URL:https://evergeteaps.it/index.php/component/icagenda/5-inquinamento-alim
 entare-quali-cause-e-conseguenze-per-la-salute
END:VEVENT
END:VCALENDAR
