BEGIN:VCALENDAR
VERSION:2.0
PRODID:-//Evergete aps//NONSGML kigkonsult.se iCalcreator 2.30.10//
CALSCALE:GREGORIAN
METHOD:PUBLISH
UID:0649eb0d-306f-4d68-97dc-bb4fe8316132
X-WR-CALNAME:iCagenda
X-WR-CALDESC:Event Management Extension for Joomla!
X-WR-RELCALID:3E26604A-50F4-4449-8B3E-E4F4932D05B5
X-WR-TIMEZONE:Europe/Rome
BEGIN:VTIMEZONE
TZID:Europe/Rome
BEGIN:STANDARD
TZNAME:CET
DTSTART:20221030T030000
TZOFFSETFROM:+0200
TZOFFSETTO:+0100
RDATE:20231029T030000
RDATE:20241027T030000
END:STANDARD
BEGIN:DAYLIGHT
TZNAME:CEST
DTSTART:20230326T020000
TZOFFSETFROM:+0100
TZOFFSETTO:+0200
RDATE:20240331T020000
END:DAYLIGHT
END:VTIMEZONE
BEGIN:VEVENT
UID:fd49170f-a2b3-4c0f-b200-961f46266135
DTSTAMP:20260420T212803Z
CATEGORIES:Campagna Associativa
CLASS:PUBLIC
DESCRIPTION;ALTREP="CID:<FFFF__=0ABBE548DFE235B58f9e8a93d@coffeebean.com>":
 Torni dal mare o dalla piscina ?\nBene!  Passa da noi !\nbuona qualità e b
 uona compagnia . . .\n \nSprits\, gelati artigianali\, bibite\, caffé . . 
 . \nCampagna associativa tesseramento
DTSTART:20230709T160000Z
DTEND:20230709T203000Z
GEO:+43.075584;+12.541436
LOCATION:Circolo San Bartolo
ORGANIZER:
SEQUENCE:1
SUMMARY:Aperitivo Vegan
TRANSP:OPAQUE
URL:https://evergeteaps.it/index.php/component/icagenda/4-aperitivo-vegan/2
 023-07-09-18-00
END:VEVENT
END:VCALENDAR
