BEGIN:VCALENDAR
VERSION:2.0
PRODID:-//Evergete aps//NONSGML kigkonsult.se iCalcreator 2.30.10//
CALSCALE:GREGORIAN
METHOD:PUBLISH
UID:ab705660-f59c-41f8-9fee-757f07db32ac
X-WR-CALNAME:iCagenda
X-WR-CALDESC:Event Management Extension for Joomla!
X-WR-RELCALID:3E26604A-50F4-4449-8B3E-E4F4932D05B5
X-WR-TIMEZONE:Europe/Rome
BEGIN:VTIMEZONE
TZID:Europe/Rome
BEGIN:STANDARD
TZNAME:CET
DTSTART:20221030T030000
TZOFFSETFROM:+0200
TZOFFSETTO:+0100
RDATE:20231029T030000
RDATE:20241027T030000
END:STANDARD
BEGIN:DAYLIGHT
TZNAME:CEST
DTSTART:20230326T020000
TZOFFSETFROM:+0100
TZOFFSETTO:+0200
RDATE:20240331T020000
END:DAYLIGHT
END:VTIMEZONE
BEGIN:VEVENT
UID:0537d16d-ad12-4b1f-9457-e886f8d5a6d2
DTSTAMP:20260420T230454Z
CATEGORIES:Campagna Associativa
CLASS:PUBLIC
DESCRIPTION;ALTREP="CID:<FFFF__=0ABBE548DFE235B58f9e8a93d@coffeebean.com>":
 Sabato 10 giugno 2023 riprendono le attività del Circolo San Bartolo\, una
  giornata di conoscenze e di cordialità\, il bar è fornito di quanto neces
 sita per passare lietamente qualche ora\, aperto a tutti per invitare all'
 adesione i residenti del quartiere e di quanti lo desiderano. Oggi la nost
 ra prima campagna associativa.\nIn serata la cena per quanti hanno provved
 uto a prenotarsi per tempo.\nÈ necessario prenotarsi anticipatamente e con
 fermare con il pagamento on line o in presenza presso il Circolo o telefon
 are al numero di contatto indicato.\n\nMenù della Cena\n\nantipasto varieg
 ato\,\nstinco a forno con contorno di patate\nacqua.\n\nVino e bibite dive
 rse a richiesta.\n \n{source}&lt\;script asyncsrc='https://js.stripe.com/v
 3/buy-button.js'&gt\;&lt\;/script&gt\;&lt\;stripe-buy-buttonbuy-button-id=
 'buy_btn_1NAam4IOxBhitoNjEaYM97C7'publishable-key='pk_live_51NAZJPIOxBhito
 NjWs6iPh85Z8DMTL7TryT3XukF7QaIc4ArEhQDfP66XY0q1URRV9rZy99RHftYsI7vK8qicKNH
 00Ymolyo0y'&gt\;&lt\;/stripe-buy-button&gt\;{/source} \nNOTA: cliccando su
  prenota per il pagamento sarai trasferito sulla pagina sicura della banca
  per il pagamento tramite carte\, è possibile modificare la quantità delle
  prenotazioni (1\, 2\, 3 . . .) dal menù proposto nel pagamento 'Qta'.\n 
 \n 
DTSTART:20230610T183000Z
DTEND:20230610T183000Z
GEO:+43.076153;+12.541267
LOCATION:Circolo San Bartolo
ORGANIZER;CN=:info@evergeteaps.it
SEQUENCE:1
SUMMARY:Cena di inagurazione e ripartenza
TRANSP:OPAQUE
URL:https://evergeteaps.it/index.php/component/icagenda/2-cena-di-inagurazi
 one-e-ripartenza/2023-06-10-20-30
END:VEVENT
END:VCALENDAR
