BEGIN:VCALENDAR
VERSION:2.0
PRODID:-//Evergete aps//NONSGML kigkonsult.se iCalcreator 2.30.10//
CALSCALE:GREGORIAN
METHOD:PUBLISH
UID:685b913a-f706-4de7-a27a-0fa4fb923689
X-WR-CALNAME:iCagenda
X-WR-CALDESC:Event Management Extension for Joomla!
X-WR-RELCALID:3E26604A-50F4-4449-8B3E-E4F4932D05B5
X-WR-TIMEZONE:Europe/Rome
BEGIN:VTIMEZONE
TZID:Europe/Rome
BEGIN:STANDARD
TZNAME:CET
DTSTART:20241027T030000
TZOFFSETFROM:+0200
TZOFFSETTO:+0100
RDATE:20251026T030000
END:STANDARD
BEGIN:DAYLIGHT
TZNAME:CEST
DTSTART:20240331T020000
TZOFFSETFROM:+0100
TZOFFSETTO:+0200
RDATE:20250330T020000
RDATE:20260329T020000
END:DAYLIGHT
END:VTIMEZONE
BEGIN:VEVENT
UID:c1b17846-9cde-4860-abfe-7e5d6573be6d
DTSTAMP:20260420T171521Z
CATEGORIES:Campagna Associativa
CLASS:PUBLIC
DESCRIPTION:
DTSTART:20241228T203000Z
DTEND:20241229T023000Z
GEO:00;0
LOCATION:Circolo San Bartolo\, Bastiola
ORGANIZER;CN=:info@evergeteaps.it
SEQUENCE:1
SUMMARY:Aspettiamo in festa il 2025
TRANSP:OPAQUE
URL:https://evergeteaps.it/index.php/component/icagenda/17-aspettiamo-in-fe
 sta-il-2025
END:VEVENT
END:VCALENDAR
