BEGIN:VCALENDAR
VERSION:2.0
PRODID:-//Evergete aps//NONSGML kigkonsult.se iCalcreator 2.30.10//
CALSCALE:GREGORIAN
METHOD:PUBLISH
UID:1927e4b7-32ef-4faf-8c53-a9ed3c8713f8
X-WR-CALNAME:iCagenda
X-WR-CALDESC:Event Management Extension for Joomla!
X-WR-RELCALID:3E26604A-50F4-4449-8B3E-E4F4932D05B5
X-WR-TIMEZONE:Europe/Rome
BEGIN:VTIMEZONE
TZID:Europe/Rome
BEGIN:STANDARD
TZNAME:CET
DTSTART:20241027T030000
TZOFFSETFROM:+0200
TZOFFSETTO:+0100
RDATE:20251026T030000
END:STANDARD
BEGIN:DAYLIGHT
TZNAME:CEST
DTSTART:20240331T020000
TZOFFSETFROM:+0100
TZOFFSETTO:+0200
RDATE:20250330T020000
RDATE:20260329T020000
END:DAYLIGHT
END:VTIMEZONE
BEGIN:VEVENT
UID:4753c3da-bc9d-400b-8ebb-988295245292
DTSTAMP:20260420T171038Z
CATEGORIES:Campagna Associativa
CLASS:PUBLIC
DESCRIPTION:
DTSTART:20241221T203000Z
DTEND:20241222T023000Z
GEO:00;0
LOCATION:Circolo San Bartolo\, Bastiola
ORGANIZER;CN=:info@evergeteaps.it
SEQUENCE:1
SUMMARY:Aspettando il Natale 2024
TRANSP:OPAQUE
URL:https://evergeteaps.it/index.php/component/icagenda/16-aspettando-il-na
 tale-2024
END:VEVENT
END:VCALENDAR
