BEGIN:VCALENDAR
VERSION:2.0
PRODID:-//Evergete aps//NONSGML kigkonsult.se iCalcreator 2.30.10//
CALSCALE:GREGORIAN
METHOD:PUBLISH
UID:a54eb4d8-6333-43d0-82f9-02ab721ea0c3
X-WR-CALNAME:iCagenda
X-WR-CALDESC:Event Management Extension for Joomla!
X-WR-RELCALID:3E26604A-50F4-4449-8B3E-E4F4932D05B5
X-WR-TIMEZONE:Europe/Rome
BEGIN:VTIMEZONE
TZID:Europe/Rome
BEGIN:STANDARD
TZNAME:CET
DTSTART:20231029T030000
TZOFFSETFROM:+0200
TZOFFSETTO:+0100
RDATE:20241027T030000
RDATE:20251026T030000
END:STANDARD
BEGIN:DAYLIGHT
TZNAME:CEST
DTSTART:20240331T020000
TZOFFSETFROM:+0100
TZOFFSETTO:+0200
RDATE:20250330T020000
END:DAYLIGHT
END:VTIMEZONE
BEGIN:VEVENT
UID:35a83663-eb88-4c2a-b1d8-e657c45f04e3
DTSTAMP:20260420T201050Z
CATEGORIES:Sport - Attività
CLASS:PUBLIC
DESCRIPTION;ALTREP="CID:<FFFF__=0ABBE548DFE235B58f9e8a93d@coffeebean.com>":
 Per dare la possibilità di provare e conoscere questo nuovo sport è possib
 ile presso la nostra sede di Bastiola circolo san Bartolo:\nSabato 07/09/2
 024 dalle ore 09:00 alle ore 12:00 e dalle ore 16:00 alle 19:00\,\nDomenic
 a 08/09/2024 dalle ore 09:00 alle 12:00 \nE' possibile utilizzare gratuita
 mente il campo e le attrezzature (rete\, racchetta\, pallina) per provare 
 e conoscere questo nuovo sport accessibile a tutte le età e fra uomini e d
 onne.\n \nNB. Per provare il gioco è indispensabile essere forniti di scar
 pe da tennis o similari.\n 
DTSTART:20240907T070000Z
DTEND:20240908T100000Z
GEO:+43.075531;+12.541292
LOCATION:Circolo San Bartolo\, Bastiola
ORGANIZER;CN=:info@evergeteaps.it
SEQUENCE:1
SUMMARY:Open Day Pickleball
TRANSP:OPAQUE
URL:https://evergeteaps.it/index.php/component/icagenda/15-open-day-pickleb
 all
END:VEVENT
END:VCALENDAR
