BEGIN:VCALENDAR
VERSION:2.0
PRODID:-//Evergete aps//NONSGML kigkonsult.se iCalcreator 2.30.10//
CALSCALE:GREGORIAN
METHOD:PUBLISH
UID:a52befc5-0d58-4eff-af3b-0436a1104f86
X-WR-CALNAME:iCagenda
X-WR-CALDESC:Event Management Extension for Joomla!
X-WR-RELCALID:3E26604A-50F4-4449-8B3E-E4F4932D05B5
X-WR-TIMEZONE:Europe/Rome
BEGIN:VTIMEZONE
TZID:Europe/Rome
BEGIN:STANDARD
TZNAME:CET
DTSTART:20231029T030000
TZOFFSETFROM:+0200
TZOFFSETTO:+0100
RDATE:20241027T030000
RDATE:20251026T030000
END:STANDARD
BEGIN:DAYLIGHT
TZNAME:CEST
DTSTART:20240331T020000
TZOFFSETFROM:+0100
TZOFFSETTO:+0200
RDATE:20250330T020000
RDATE:20260329T020000
END:DAYLIGHT
END:VTIMEZONE
BEGIN:VEVENT
UID:d1dad01b-60a4-413b-85f8-c8d98c262bec
DTSTAMP:20260420T195827Z
CATEGORIES:Giochi e tempo libero
CLASS:PUBLIC
DESCRIPTION;ALTREP="CID:<FFFF__=0ABBE548DFE235B58f9e8a93d@coffeebean.com>":
 Info per i nuovi giocatori\nIl Burraco\, è un gioco di carte della famigli
 a della Pinnacola\, nato probabilmente in Uruguay intorno agli anni quaran
 ta come variante della Canasta (dalla quale comunque si differenzia sensib
 ilmente in regole e tattiche)\, diffusosi in Italia intorno agli anni otta
 nta. \nSi gioca con due mazzi di carte\, comprensivi dei quattro jolly\, l
 e stesse usate anche per poker\, bridge e ramino\, con la sola variante ch
 e tutte le carte di valore 2 (le cosiddette pinelle del gioco\, che sono l
 e matte come i jolly)\, hanno sotto l'indice un simbolo formato da una ste
 lla inscritta in un cerchietto.\nNella versione più diffusa i quattro gioc
 atori si affrontano in due coppie. \n \nCampagna Associativa: i non soci p
 ossono fare richiesta di adesione all'inizio delle lezioni.\n 
DTSTART:20241004T150000Z
DTEND:20241004T150000Z
GEO:+43.075531;+12.541292
LOCATION:Circolo San Bartolo\, Bastiola
ORGANIZER;CN=:info@evergeteaps.it
SEQUENCE:1
SUMMARY:Gioco e scuola di Burraco
TRANSP:OPAQUE
URL:https://evergeteaps.it/index.php/component/icagenda/14-gioco-e-scuola-d
 i-burraco/2024-10-04-17-00
END:VEVENT
END:VCALENDAR
