BEGIN:VCALENDAR
VERSION:2.0
PRODID:-//Evergete aps//NONSGML kigkonsult.se iCalcreator 2.30.10//
CALSCALE:GREGORIAN
METHOD:PUBLISH
UID:97f1b9ba-11c9-4e88-b516-c23b5110014c
X-WR-CALNAME:iCagenda
X-WR-CALDESC:Event Management Extension for Joomla!
X-WR-RELCALID:3E26604A-50F4-4449-8B3E-E4F4932D05B5
X-WR-TIMEZONE:Europe/Rome
BEGIN:VTIMEZONE
TZID:Europe/Rome
BEGIN:STANDARD
TZNAME:CET
DTSTART:20231029T030000
TZOFFSETFROM:+0200
TZOFFSETTO:+0100
RDATE:20241027T030000
RDATE:20251026T030000
END:STANDARD
BEGIN:DAYLIGHT
TZNAME:CEST
DTSTART:20240331T020000
TZOFFSETFROM:+0100
TZOFFSETTO:+0200
RDATE:20250330T020000
END:DAYLIGHT
END:VTIMEZONE
BEGIN:VEVENT
UID:5dbe589d-7858-47b3-88f3-e47b9eb0c3f5
DTSTAMP:20260420T201558Z
CATEGORIES:Formazione Informatica
CLASS:PUBLIC
DESCRIPTION;ALTREP="CID:<FFFF__=0ABBE548DFE235B58f9e8a93d@coffeebean.com>":
 Apporre una firma digitale significa sostanzialmente aggiungere un certifi
 cato relativo alla propria identità dentro una busta\, nella quale sarà al
 tresì presente il contenuto che si va a firmare.\nLa busta è ciò che garan
 tisce l’identità\, l’integrità del contenuto e il fatto che si sia volutam
 ente firmato il documento (e tale aspetto sia pertanto in seguito impossib
 ile da negare). \n \nLezioni di formazione gratuita per gli associati.\nLe
 zione formativa\n\nche cosa è\,\ncome si attiva\ncome e dove si usa\,\ncon
 servare bene i dati di accesso\n\n \nCampagna Associativa: i non soci poss
 ono fare richiesta di adesione all'inizio delle lezioni.
DTSTART:20240925T150000Z
DTEND:20240925T163000Z
GEO:+43.075531;+12.541292
LOCATION:Circolo San Bartolo\, Bastiola
ORGANIZER;CN=:info@evergeteaps.it
SEQUENCE:1
SUMMARY:Formazione digitale di utilità. 2
TRANSP:OPAQUE
URL:https://evergeteaps.it/index.php/component/icagenda/13-formazione-digit
 ale-di-utilita-2
END:VEVENT
END:VCALENDAR
