BEGIN:VCALENDAR
VERSION:2.0
PRODID:-//Evergete aps//NONSGML kigkonsult.se iCalcreator 2.30.10//
CALSCALE:GREGORIAN
METHOD:PUBLISH
UID:0e2dfcde-e355-4913-bb87-a94a2eb99953
X-WR-CALNAME:iCagenda
X-WR-CALDESC:Event Management Extension for Joomla!
X-WR-RELCALID:3E26604A-50F4-4449-8B3E-E4F4932D05B5
X-WR-TIMEZONE:Europe/Rome
BEGIN:VTIMEZONE
TZID:Europe/Rome
BEGIN:STANDARD
TZNAME:CET
DTSTART:20231029T030000
TZOFFSETFROM:+0200
TZOFFSETTO:+0100
RDATE:20241027T030000
RDATE:20251026T030000
END:STANDARD
BEGIN:DAYLIGHT
TZNAME:CEST
DTSTART:20240331T020000
TZOFFSETFROM:+0100
TZOFFSETTO:+0200
RDATE:20250330T020000
END:DAYLIGHT
END:VTIMEZONE
BEGIN:VEVENT
UID:9f8c38e4-84bf-4fb2-a9bd-8872c9cbbd4e
DTSTAMP:20260420T213503Z
CATEGORIES:Formazione Informatica
CLASS:PUBLIC
DESCRIPTION;ALTREP="CID:<FFFF__=0ABBE548DFE235B58f9e8a93d@coffeebean.com>":
 Lezioni di formazione gratuita per gli associati.\nIl Sistema Pubblico di 
 Identità Digitale (SPID) è un’identità digitale composta da una coppia di 
 credenziali (username e password)\, strettamente personali\, con le quali 
 è possibile accedere ai servizi online della pubblica amministrazione e de
 i privati aderenti. \nSemplice\, sicuro e veloce\, puoi utilizzare SPID da
  qualsiasi dispositivo: computer\, tablet e smartphone ogni volta che\, su
  un sito o un’app di servizi\, trovi il pulsante “Entra con SPID”.\nLezion
 e formativa\n\nche cosa è\,\ncome si attiva\ncome e dove si usa\,\nconserv
 are bene i dati di accesso\n\n \nCampagna Associativa: i non soci possono 
 fare richiesta di adesione all'inizio delle lezioni.
DTSTART:20240911T150000Z
DTEND:20240911T163000Z
GEO:+43.075531;+12.541292
LOCATION:Circolo San Bartolo\, Bastiola
ORGANIZER;CN=:info@evergeteaps.it
SEQUENCE:1
SUMMARY:Formazione digitale di utilità.
TRANSP:OPAQUE
URL:https://evergeteaps.it/index.php/component/icagenda/12-formazione-digit
 ale-di-utilita
END:VEVENT
END:VCALENDAR
